BEGIN:VCALENDAR
VERSION:2.0
PRODID:-//Waconia Lions Club - ECPv6.15.17.1//NONSGML v1.0//EN
CALSCALE:GREGORIAN
METHOD:PUBLISH
X-WR-CALNAME:Waconia Lions Club
X-ORIGINAL-URL:https://waconialionsclub.org
X-WR-CALDESC:Events for Waconia Lions Club
REFRESH-INTERVAL;VALUE=DURATION:PT1H
X-Robots-Tag:noindex
X-PUBLISHED-TTL:PT1H
BEGIN:VTIMEZONE
TZID:America/Chicago
BEGIN:DAYLIGHT
TZOFFSETFROM:-0600
TZOFFSETTO:-0500
TZNAME:CDT
DTSTART:20230312T080000
END:DAYLIGHT
BEGIN:STANDARD
TZOFFSETFROM:-0500
TZOFFSETTO:-0600
TZNAME:CST
DTSTART:20231105T070000
END:STANDARD
BEGIN:DAYLIGHT
TZOFFSETFROM:-0600
TZOFFSETTO:-0500
TZNAME:CDT
DTSTART:20240310T080000
END:DAYLIGHT
BEGIN:STANDARD
TZOFFSETFROM:-0500
TZOFFSETTO:-0600
TZNAME:CST
DTSTART:20241103T070000
END:STANDARD
BEGIN:DAYLIGHT
TZOFFSETFROM:-0600
TZOFFSETTO:-0500
TZNAME:CDT
DTSTART:20250309T080000
END:DAYLIGHT
BEGIN:STANDARD
TZOFFSETFROM:-0500
TZOFFSETTO:-0600
TZNAME:CST
DTSTART:20251102T070000
END:STANDARD
END:VTIMEZONE
BEGIN:VEVENT
DTSTART;TZID=America/Chicago:20240807T080000
DTEND;TZID=America/Chicago:20240811T230000
DTSTAMP:20260421T054817
CREATED:20240401T160503Z
LAST-MODIFIED:20240401T160503Z
UID:2816-1723017600-1723417200@waconialionsclub.org
SUMMARY:Carver County Fair Brat Stand
DESCRIPTION:ALL HAND ON DECK \n\nSelling Brats and Sweet Corn in the Brat stand.\nSelling Raffle tickets for the Fireworks festival\n\nSchedule to be determined and shared.
URL:https://waconialionsclub.org/event/carver-county-fair-brat-stand/
LOCATION:Carver County Fairgrounds\, 501 W 3rd Street\, Waconia\, MN\, 55387\, United States
ATTACH;FMTTYPE=image/jpeg:https://waconialionsclub.org/wp-content/uploads/2024/04/IMG_20230809_112122446_HDR.jpg
END:VEVENT
END:VCALENDAR