BEGIN:VCALENDAR
VERSION:2.0
PRODID:-//Waconia Lions Club - ECPv6.15.17.1//NONSGML v1.0//EN
CALSCALE:GREGORIAN
METHOD:PUBLISH
X-ORIGINAL-URL:https://waconialionsclub.org
X-WR-CALDESC:Events for Waconia Lions Club
REFRESH-INTERVAL;VALUE=DURATION:PT1H
X-Robots-Tag:noindex
X-PUBLISHED-TTL:PT1H
BEGIN:VTIMEZONE
TZID:America/Chicago
BEGIN:DAYLIGHT
TZOFFSETFROM:-0600
TZOFFSETTO:-0500
TZNAME:CDT
DTSTART:20230312T080000
END:DAYLIGHT
BEGIN:STANDARD
TZOFFSETFROM:-0500
TZOFFSETTO:-0600
TZNAME:CST
DTSTART:20231105T070000
END:STANDARD
BEGIN:DAYLIGHT
TZOFFSETFROM:-0600
TZOFFSETTO:-0500
TZNAME:CDT
DTSTART:20240310T080000
END:DAYLIGHT
BEGIN:STANDARD
TZOFFSETFROM:-0500
TZOFFSETTO:-0600
TZNAME:CST
DTSTART:20241103T070000
END:STANDARD
BEGIN:DAYLIGHT
TZOFFSETFROM:-0600
TZOFFSETTO:-0500
TZNAME:CDT
DTSTART:20250309T080000
END:DAYLIGHT
BEGIN:STANDARD
TZOFFSETFROM:-0500
TZOFFSETTO:-0600
TZNAME:CST
DTSTART:20251102T070000
END:STANDARD
END:VTIMEZONE
BEGIN:VEVENT
DTSTART;TZID=America/Chicago:20240827T180000
DTEND;TZID=America/Chicago:20240827T203000
DTSTAMP:20260421T055025
CREATED:20240718T174808Z
LAST-MODIFIED:20240718T174808Z
UID:2940-1724781600-1724790600@waconialionsclub.org
SUMMARY:Waconia Lions Club Regular Meeting
DESCRIPTION:Board Meeting:\n5:30 – 6:30 \nClub Meeting:\n6:00-6:30 social time (guest arrive at 6:00 for fellowship)\n6:30-8:30 meal and meeting \nSpecial guest speakers: \n\nThe Humanity Alliance Presentation\nWaconia Lacrosse Booster Club Presentation\n\nAnyone interested in learning about the organization or becoming a member?\nSimply stop by and sit in a meeting to see what it’s all about.\nHope to see you there!
URL:https://waconialionsclub.org/event/waconia-lions-club-regular-meeting-24/
LOCATION:American Legion Post 150\, 4 East main Street suite 1\, Waconia\, MN\, 55387\, United States
ATTACH;FMTTYPE=image/png:https://waconialionsclub.org/wp-content/uploads/2022/11/Mark-Your-Calendar.png
END:VEVENT
END:VCALENDAR